BEGIN:VCALENDAR
VERSION:2.0
PRODID:-//Gülsüme Oğuz - ECPv6.15.13//NONSGML v1.0//EN
CALSCALE:GREGORIAN
METHOD:PUBLISH
X-ORIGINAL-URL:https://gulsumeoguz.com.tr
X-WR-CALDESC:Gülsüme Oğuz için etkinlikler
REFRESH-INTERVAL;VALUE=DURATION:PT1H
X-Robots-Tag:noindex
X-PUBLISHED-TTL:PT1H
BEGIN:VTIMEZONE
TZID:UTC
BEGIN:STANDARD
TZOFFSETFROM:+0000
TZOFFSETTO:+0000
TZNAME:UTC
DTSTART:20250101T000000
END:STANDARD
END:VTIMEZONE
BEGIN:VEVENT
DTSTART;VALUE=DATE:20260902
DTEND;VALUE=DATE:20260906
DTSTAMP:20260419T164451
CREATED:20251230T111242Z
LAST-MODIFIED:20260119T140802Z
UID:15312-1788307200-1788652799@gulsumeoguz.com.tr
SUMMARY:İstanbul Sergisi
DESCRIPTION:Beyoğlu’nda izleyiciyle buluşan sergiye sanat severlerin ve medyanın ilgisi büyük oldu. Seramiğin çağdaş sanatta kullanımı\, dışavurumcu yönelimle üretilmiş olmaları dikkat çekiciydi. Ezidi kadınlar özelinde\, savaşta hayatta kalan\, esir düşen ya da göç eden kadın olma gerçekliğiyle yüzleşmenin harekete geçirici etkisi gözlendi. Sanat sayesinde konuşulması güç olan konuları\, hissedilir ve görünür kılma yönü etki yarattı. Sivil toplum örgütleri için de ilham kaynağı olan sergi\, savaş karşıtı eylemlerde sanatın etkisinden daha çok yararlanmak istediklerini ifade ettiler. Sergimiz\, Ekim 2026’da gerçekleşecek olan Dünya Çocuk Ruh Sağlığı Kongresi’ne davet aldı.
URL:https://gulsumeoguz.com.tr/etkinlik/istanbul-sergisi/
LOCATION:Aynalı Geçit Galeri
CATEGORIES:Sergiler
ATTACH;FMTTYPE=image/jpeg:https://gulsumeoguz.com.tr/wp-content/uploads/2026/01/WhatsApp-Image-2026-01-17-at-19.55.56.jpeg
END:VEVENT
END:VCALENDAR