BEGIN:VCALENDAR
VERSION:2.0
PRODID:-//Gülsüme Oğuz - ECPv6.15.13//NONSGML v1.0//EN
CALSCALE:GREGORIAN
METHOD:PUBLISH
X-ORIGINAL-URL:https://gulsumeoguz.com.tr
X-WR-CALDESC:Gülsüme Oğuz için etkinlikler
REFRESH-INTERVAL;VALUE=DURATION:PT1H
X-Robots-Tag:noindex
X-PUBLISHED-TTL:PT1H
BEGIN:VTIMEZONE
TZID:UTC
BEGIN:STANDARD
TZOFFSETFROM:+0000
TZOFFSETTO:+0000
TZNAME:UTC
DTSTART:20250101T000000
END:STANDARD
END:VTIMEZONE
BEGIN:VEVENT
DTSTART;VALUE=DATE:20261220
DTEND;VALUE=DATE:20261224
DTSTAMP:20260419T222131
CREATED:20251230T110917Z
LAST-MODIFIED:20260112T060747Z
UID:15318-1797724800-1798070399@gulsumeoguz.com.tr
SUMMARY:Silopi Sergisi
DESCRIPTION:Açılışı Belediye Başkanı Jiyan Ormanlı ve Kadın Politikaları Müdiresi Evin Hasanoğlu’nun katılımıyla\, 8 Mart Kadın Parkı’nda yapıldı. 5 gün açık kalan sergiye Silopi halkı yoğun ilgi gösterdi. Klasik bir sanat sergisi çerçevesinin izleyici eser ilişkisinden öteye geçilerek etkileşimli oturumlara dönüştü. 2014-2016 yılları arası Ezidi sığınmacılara gösterilen dayanışma hatırlandı. Bununla beraber sergi alanı toplumsal cinsiyet normlarının tartışıldığı forumlara sahne oldu.
URL:https://gulsumeoguz.com.tr/etkinlik/silopi-sergisi/
LOCATION:Silopi Belediyesi
CATEGORIES:Sergiler
ATTACH;FMTTYPE=image/jpeg:https://gulsumeoguz.com.tr/wp-content/uploads/2025/12/silopi-afis.jpeg
END:VEVENT
END:VCALENDAR